BEGIN:VCALENDAR
VERSION:2.0
PRODID:icalendar-ruby
CALSCALE:GREGORIAN
BEGIN:VEVENT
DTSTAMP:20260420T020141Z
UID:5e5b0885-a3e9-4b96-ab5e-b5cbdade1461
DTSTART;TZID=Pacific/Auckland:20260419T140000
DTEND;TZID=Pacific/Auckland:20260419T150000
DESCRIPTION:Property ID# 601124
SUMMARY:Openhome for 44A Martray Road
END:VEVENT
END:VCALENDAR
