BEGIN:VCALENDAR
VERSION:2.0
PRODID:icalendar-ruby
CALSCALE:GREGORIAN
BEGIN:VEVENT
DTSTAMP:20260421T090802Z
UID:0482e927-d690-4ecd-bee3-d4f4c283a6d9
DTSTART;VALUE=DATE:20260311
DESCRIPTION:Property ID# 603507\, Time: 4:00PM
SUMMARY:Auction for 45 Burma Road
END:VEVENT
END:VCALENDAR
